BEGIN:VCALENDAR
VERSION:2.0
PRODID:-//ChamberMaster//Event Calendar 2.0//EN
METHOD:PUBLISH
X-PUBLISHED-TTL:P3D
REFRESH-INTERVAL:P3D
CALSCALE:GREGORIAN
BEGIN:VEVENT
DTSTART:20030914T180000Z
DTEND:20030914T180000Z
X-MICROSOFT-CDO-ALLDAYEVENT:FALSE
SUMMARY:U.P. Chapter of the League of Finnish-American Societies
DESCRIPTION:Attendees should bring a dish to pass and their own table setting.  Coffee and soft drinks will be provided.  The program will include an open microphone\, dancing and group singing.  Musicians may bring instruments.  There will be a brief business meeting with announcements of upcoming events.  For more information call Tanya Stanaway at 485-1971.
X-ALT-DESC;FMTTYPE=text/html:Attendees should bring a dish to pass and their own table setting.  Coffee and soft drinks will be provided.  The program will include an open microphone\, dancing and group singing.  Musicians may bring instruments.  There will be a brief business meeting with announcements of upcoming events.  For more information call Tanya Stanaway at 485-1971.
LOCATION:Al Quaal Recreation Area\, Ishpeming
UID:e.1704.55405
SEQUENCE:3
DTSTAMP:20260421T055126Z
URL:http://marquette.memberzone.com/events/details/u-p-chapter-of-the-league-of-finnish-american-societies-09-14-2003-55405
END:VEVENT

END:VCALENDAR
