BEGIN:VCALENDAR
VERSION:2.0
PRODID:-//ChamberMaster//Event Calendar 2.0//EN
METHOD:PUBLISH
X-PUBLISHED-TTL:P3D
REFRESH-INTERVAL:P3D
CALSCALE:GREGORIAN
BEGIN:VEVENT
DTSTART:20020804T043000Z
DTEND:20020804T043000Z
X-MICROSOFT-CDO-ALLDAYEVENT:FALSE
SUMMARY:U.P. Christian Music Fest
DESCRIPTION:The 4th annual U.P. Christian Music Fest (formerly known as the U.P. Gospel Music Fest) will be held this year at the Presque Isle Band Shell.  The festival is open and free to the community and will feature all styles of Christian music.  If you have any questions or comments\, please call Rondi Olson at (906) 387-5259.
X-ALT-DESC;FMTTYPE=text/html:The 4th annual U.P. Christian Music Fest (formerly known as the U.P. Gospel Music Fest) will be held this year at the Presque Isle Band Shell.  The festival is open and free to the community and will feature all styles of Christian music.  If you have any questions or comments\, please call Rondi Olson at (906) 387-5259.
LOCATION:Presque Isle Band Shell
UID:e.1704.45929
SEQUENCE:3
DTSTAMP:20260422T113554Z
URL:http://marquette.memberzone.com/events/details/u-p-christian-music-fest-08-04-2002-45929
END:VEVENT

END:VCALENDAR
