BEGIN:VCALENDAR
VERSION:2.0
PRODID:-//ChamberMaster//Event Calendar 2.0//EN
METHOD:PUBLISH
X-PUBLISHED-TTL:P3D
REFRESH-INTERVAL:P3D
CALSCALE:GREGORIAN
BEGIN:VEVENT
DTSTART:20040424T140000Z
DTEND:20040424T140000Z
X-MICROSOFT-CDO-ALLDAYEVENT:FALSE
SUMMARY:U.P. Publishing Conference
DESCRIPTION:This full day of information about the "how to" of publishing for writers\, authors\, or publishers will help participants improve their writing product\,better business practices\, printing savvy and creative marketing.  For more information call Rebecca Tavernini at 228-9168.
X-ALT-DESC;FMTTYPE=text/html:This full day of information about the "how to" of publishing for writers\, authors\, or publishers will help participants improve their writing product\,better business practices\, printing savvy and creative marketing.  For more information call Rebecca Tavernini at 228-9168.\n\n\n\n\n\n\n\n\n\n\n\n\n\n\n\n\n\n\n\n\n\n\n
LOCATION:Peter White Public Library
UID:e.1704.57597
SEQUENCE:3
DTSTAMP:20260420T193905Z
URL:http://marquette.memberzone.com/events/details/u-p-publishing-conference-04-24-2004-57597
END:VEVENT

END:VCALENDAR
