BEGIN:VCALENDAR
VERSION:2.0
PRODID:-//ChamberMaster//Event Calendar 2.0//EN
METHOD:PUBLISH
X-PUBLISHED-TTL:P3D
REFRESH-INTERVAL:P3D
CALSCALE:GREGORIAN
BEGIN:VEVENT
DTSTART:20030404T050000Z
DTEND:20030406T050000Z
X-MICROSOFT-CDO-ALLDAYEVENT:FALSE
SUMMARY:U.P. Recreation Show
DESCRIPTION:For more information call the Lakeview Arena at 228-0490.
X-ALT-DESC;FMTTYPE=text/html:For more information call the Lakeview Arena at 228-0490.
LOCATION:Lakeview Arena
UID:e.1704.51717
SEQUENCE:3
DTSTAMP:20260421T193150Z
URL:http://marquette.memberzone.com/events/details/u-p-recreation-show-04-04-2003-51717
END:VEVENT

END:VCALENDAR
