BEGIN:VCALENDAR
VERSION:2.0
PRODID:-//ChamberMaster//Event Calendar 2.0//EN
METHOD:PUBLISH
X-PUBLISHED-TTL:P3D
REFRESH-INTERVAL:P3D
CALSCALE:GREGORIAN
BEGIN:VEVENT
DTSTART:20040813T130000Z
DTEND:20040813T130000Z
X-MICROSOFT-CDO-ALLDAYEVENT:FALSE
SUMMARY:U.P. Red Hat Day
DESCRIPTION:Registration starts at 9:00am\, from 10:00am to noon there will be group sharing\, shopping\, or a choice of two tours.  A social hour is planned from noon to 1:00pm\, with a lunchion from 1 to 3pm\, featuring entertainment and prizes.  Reservations and pre-payment are required.  For more information call Rosettes Queen Mother Barb White at 226-5069 or email bwhite@chartermi.net.
X-ALT-DESC;FMTTYPE=text/html:Registration starts at 9:00am\, from 10:00am to noon there will be group sharing\, shopping\, or a choice of two tours.  A social hour is planned from noon to 1:00pm\, with a lunchion from 1 to 3pm\, featuring entertainment and prizes.  Reservations and pre-payment are required.  For more information call Rosettes Queen Mother Barb White at 226-5069 or email bwhite@chartermi.net.
LOCATION:Ramada Inn
UID:e.1704.58717
SEQUENCE:3
DTSTAMP:20260420T072631Z
URL:http://marquette.memberzone.com/events/details/u-p-red-hat-day-08-13-2004-58717
END:VEVENT

END:VCALENDAR
