BEGIN:VCALENDAR
VERSION:2.0
PRODID:-//ChamberMaster//Event Calendar 2.0//EN
METHOD:PUBLISH
X-PUBLISHED-TTL:P3D
REFRESH-INTERVAL:P3D
CALSCALE:GREGORIAN
BEGIN:VEVENT
DTSTART:20040817T040000Z
DTEND:20040822T040000Z
X-MICROSOFT-CDO-ALLDAYEVENT:FALSE
SUMMARY:U.P. State Fair
DESCRIPTION:Come to the state fair for food\, fun\, rides and so much more including performances by nationally known performers. Please call 888-DELTA-MI for more information.
X-ALT-DESC;FMTTYPE=text/html:Come to the state fair for food\, fun\, rides and so much more including performances by nationally known performers. Please call 888-DELTA-MI for more information.
LOCATION:U.P. State Fair Grounds\, Escanba
UID:e.1704.56857
SEQUENCE:3
DTSTAMP:20260420T072712Z
URL:http://marquette.memberzone.com/events/details/u-p-state-fair-08-17-2004-56857
END:VEVENT

END:VCALENDAR
