BEGIN:VCALENDAR
VERSION:2.0
PRODID:-//ChamberMaster//Event Calendar 2.0//EN
METHOD:PUBLISH
X-PUBLISHED-TTL:P3D
REFRESH-INTERVAL:P3D
CALSCALE:GREGORIAN
BEGIN:VEVENT
DTSTART:20050128T050000Z
DTEND:20050128T050000Z
X-MICROSOFT-CDO-ALLDAYEVENT:FALSE
SUMMARY:U.S. National Ski Hall of Fame Induction Ceremony
DESCRIPTION:Richard Goetzman of Long Beach\, California\, President of the U.S. National Ski Hall of Fame\, announces the election of four well-known persons into the National Ski Hall of Fame. The “Class of 2004” includes: Picabo Street\, Donna Weinbrecht\, Alan Engen\, and Thor B. Groswold.  For more information call the National Ski Hall of Fame at 906-485-6323 or visit www.skihall.com.
X-ALT-DESC;FMTTYPE=text/html:Richard Goetzman of Long Beach\, California\, President of the U.S. National Ski Hall of Fame\, announces the election of four well-known persons into the National Ski Hall of Fame. The “Class of 2004” includes: Picabo Street\, Donna Weinbrecht\, Alan Engen\, and Thor B. Groswold.  For more information call the National Ski Hall of Fame at 906-485-6323 or visit www.skihall.com.
LOCATION:Peterson Auditorium\, Ishpeming
UID:e.1704.59453
SEQUENCE:3
DTSTAMP:20260419T210045Z
URL:http://marquette.memberzone.com/events/details/u-s-national-ski-hall-of-fame-induction-ceremony-01-28-2005-59453
END:VEVENT

END:VCALENDAR
