BEGIN:VCALENDAR
VERSION:2.0
PRODID:-//ChamberMaster//Event Calendar 2.0//EN
METHOD:PUBLISH
X-PUBLISHED-TTL:P3D
REFRESH-INTERVAL:P3D
CALSCALE:GREGORIAN
BEGIN:VEVENT
DTSTART:20040722T210000Z
DTEND:20040722T210000Z
X-MICROSOFT-CDO-ALLDAYEVENT:FALSE
SUMMARY:UnCommon Thursday Concert Series
DESCRIPTION:This is a free concert and the public is invited.  This concert will be held at the Downtown Commons\, corner of Main St. and Third St. For more information call the Marquette Arts and Culture Center at 228-0472.
X-ALT-DESC;FMTTYPE=text/html:This is a free concert and the public is invited.  This concert will be held at the Downtown Commons\, corner of Main St. and Third St. For more information call the Marquette Arts and Culture Center at 228-0472.
LOCATION:Dowtown Commons\, Marquette
UID:e.1704.57905
SEQUENCE:3
DTSTAMP:20260420T092242Z
URL:http://marquette.memberzone.com/events/details/uncommon-thursday-concert-series-07-22-2004-57905
END:VEVENT

END:VCALENDAR
