BEGIN:VCALENDAR
VERSION:2.0
PRODID:-//ChamberMaster//Event Calendar 2.0//EN
METHOD:PUBLISH
X-PUBLISHED-TTL:P3D
REFRESH-INTERVAL:P3D
CALSCALE:GREGORIAN
BEGIN:VEVENT
DTSTART:20040805T210000Z
DTEND:20040805T210000Z
X-MICROSOFT-CDO-ALLDAYEVENT:FALSE
SUMMARY:UnCommon Thursdays Concert Series
DESCRIPTION:This is a free concert and the public is invited.  This concert will be held at the Downtown Commons\, corner of Main St. and Third St. For more information call the Marquette Arts and Culture Center at 228-0472.
X-ALT-DESC;FMTTYPE=text/html:This is a free concert and the public is invited.  This concert will be held at the Downtown Commons\, corner of Main St. and Third St. For more information call the Marquette Arts and Culture Center at 228-0472.
LOCATION:Downtown Commons\, Marquette
UID:e.1704.57913
SEQUENCE:3
DTSTAMP:20260420T072346Z
URL:http://marquette.memberzone.com/events/details/uncommon-thursdays-concert-series-08-05-2004-57913
END:VEVENT

END:VCALENDAR
