BEGIN:VCALENDAR
VERSION:2.0
PRODID:-//ChamberMaster//Event Calendar 2.0//EN
METHOD:PUBLISH
X-PUBLISHED-TTL:P3D
REFRESH-INTERVAL:P3D
CALSCALE:GREGORIAN
BEGIN:VEVENT
DTSTART:20040129T210000Z
DTEND:20040129T210000Z
X-MICROSOFT-CDO-ALLDAYEVENT:FALSE
SUMMARY:United Way Community Visioning Meeting
DESCRIPTION:For more information call Jackie Thomas at United Way of Marquette County at  226-8171.
X-ALT-DESC;FMTTYPE=text/html:For more information call Jackie Thomas at United Way of Marquette County at  226-8171.
LOCATION:UpFront & Company
UID:e.1704.56209
SEQUENCE:3
DTSTAMP:20260421T005548Z
URL:http://marquette.memberzone.com/events/details/united-way-community-visioning-meeting-01-29-2004-56209
END:VEVENT

END:VCALENDAR
