BEGIN:VCALENDAR
VERSION:2.0
PRODID:-//ChamberMaster//Event Calendar 2.0//EN
METHOD:PUBLISH
X-PUBLISHED-TTL:P3D
REFRESH-INTERVAL:P3D
CALSCALE:GREGORIAN
BEGIN:VEVENT
DTSTART:20030930T130000Z
DTEND:20030930T130000Z
X-MICROSOFT-CDO-ALLDAYEVENT:FALSE
SUMMARY:United Way Radio Blitz
DESCRIPTION:This event is called Small Business Blitz Radio-A-Thon Day\, is in partnership with eight area radio stations.  Beginning at 9 am\, representatives will pick up campaign pledges and donations\, provide a "We Support United Way" decal and help the business annouce their community support on the air.  Businesses are invited to participate by making a contribution to the 2003 United Way Campaign.  For more information or to schedule a visit  call United Way at 226-8171 or email unitedway@uwmqt.org.
X-ALT-DESC;FMTTYPE=text/html:This event is called Small Business Blitz Radio-A-Thon Day\, is in partnership with eight area radio stations.  Beginning at 9 am\, representatives will pick up campaign pledges and donations\, provide a "We Support United Way" decal and help the business annouce their community support on the air.  Businesses are invited to participate by making a contribution to the 2003 United Way Campaign.  For more information or to schedule a visit  call United Way at 226-8171 or email unitedway@uwmqt.org.
LOCATION:Marquette
UID:e.1704.55629
SEQUENCE:3
DTSTAMP:20260421T055013Z
URL:http://marquette.memberzone.com/events/details/united-way-radio-blitz-09-30-2003-55629
END:VEVENT

END:VCALENDAR
