BEGIN:VCALENDAR
VERSION:2.0
PRODID:-//ChamberMaster//Event Calendar 2.0//EN
METHOD:PUBLISH
X-PUBLISHED-TTL:P3D
REFRESH-INTERVAL:P3D
CALSCALE:GREGORIAN
BEGIN:VEVENT
DTSTART:20040219T050000Z
DTEND:20040223T050000Z
X-MICROSOFT-CDO-ALLDAYEVENT:FALSE
SUMMARY:UP 200 and Midnight Run & WinterFest
DESCRIPTION:Join the throngs of people who line the starting chute on Washington Street in downtown Marquette to cheer the dogs and mushers at the start of the annual U.P. 200 Sled Dog Championship.  While the dogs and mushers race off into the night a fireworks display kicks off Winterfest.  The Lower Harbor Park hosts the weekend-long winter festivities that include broomball tournaments\, snow sculpture contest\, kiddie mutt races\, snowshoe obstacle course and hayrides.  Many shopkeepers offer samples of hot cider\, cocoa and treats.  At the end of the race\, enthusiastic onlookers cheer the racers back into Marquette at the Lower Harbor Park.  Please call the Convention Visitors Bureau at 800-544-4321 for more information or visit www.up200.org.
X-ALT-DESC;FMTTYPE=text/html:Join the throngs of people who line the starting chute on Washington Street in downtown Marquette to cheer the dogs and mushers at the start of the annual U.P. 200 Sled Dog Championship.  While the dogs and mushers race off into the night a fireworks display kicks off Winterfest.  The Lower Harbor Park hosts the weekend-long winter festivities that include broomball tournaments\, snow sculpture contest\, kiddie mutt races\, snowshoe obstacle course and hayrides.  Many shopkeepers offer samples of hot cider\, cocoa and treats.  At the end of the race\, enthusiastic onlookers cheer the racers back into Marquette at the Lower Harbor Park.  Please call the Convention Visitors Bureau at 800-544-4321 for more information or visit www.up200.org.
LOCATION:Downtown Marquette
UID:e.1704.52773
SEQUENCE:3
DTSTAMP:20260420T210821Z
URL:http://marquette.memberzone.com/events/details/up-200-and-midnight-run-winterfest-02-19-2004-52773
END:VEVENT

END:VCALENDAR
