BEGIN:VCALENDAR
VERSION:2.0
PRODID:-//ChamberMaster//Event Calendar 2.0//EN
METHOD:PUBLISH
X-PUBLISHED-TTL:P3D
REFRESH-INTERVAL:P3D
CALSCALE:GREGORIAN
BEGIN:VEVENT
DTSTART:20050205T050000Z
DTEND:20050205T050000Z
X-MICROSOFT-CDO-ALLDAYEVENT:FALSE
SUMMARY:UP 200 Fund Raiser
DESCRIPTION:Featuring the Flat Broke Blues Band\, this fundraiser will benefit the UP 200.  For more information call Pam at 226-2571.
X-ALT-DESC;FMTTYPE=text/html:Featuring the Flat Broke Blues Band\, this fundraiser will benefit the UP 200.  For more information call Pam at 226-2571.
LOCATION:Upfront and Company
UID:e.1704.59089
SEQUENCE:3
DTSTAMP:20260419T190319Z
URL:http://marquette.memberzone.com/events/details/up-200-fund-raiser-02-05-2005-59089
END:VEVENT

END:VCALENDAR
