BEGIN:VCALENDAR
VERSION:2.0
PRODID:-//ChamberMaster//Event Calendar 2.0//EN
METHOD:PUBLISH
X-PUBLISHED-TTL:P3D
REFRESH-INTERVAL:P3D
CALSCALE:GREGORIAN
BEGIN:VEVENT
DTSTART:20020216T050000Z
DTEND:20020217T050000Z
X-MICROSOFT-CDO-ALLDAYEVENT:FALSE
SUMMARY:UP 200 Sled Dog Race
DESCRIPTION:This annual event starts in downtown Marquette to the cheers of thousands on on-lookers. While mushers and their eager dogs race off to the dark trails\, the Lower Harbor Park host a weekend-long winter festival. For more information\, please call 888-544-4321.
X-ALT-DESC;FMTTYPE=text/html:This annual event starts in downtown Marquette to the cheers of thousands on on-lookers. While mushers and their eager dogs race off to the dark trails\, the Lower Harbor Park host a weekend-long winter festival. For more information\, please call 888-544-4321.
LOCATION:Central UP
UID:e.1704.46645
SEQUENCE:3
DTSTAMP:20260423T013640Z
URL:http://marquette.memberzone.com/events/details/up-200-sled-dog-race-02-16-2002-46645
END:VEVENT

END:VCALENDAR
