BEGIN:VCALENDAR
VERSION:2.0
PRODID:-//ChamberMaster//Event Calendar 2.0//EN
METHOD:PUBLISH
X-PUBLISHED-TTL:P3D
REFRESH-INTERVAL:P3D
CALSCALE:GREGORIAN
BEGIN:VEVENT
DTSTART:20020308T050000Z
DTEND:20020310T050000Z
X-MICROSOFT-CDO-ALLDAYEVENT:FALSE
SUMMARY:UP Builder's Show
DESCRIPTION:The show will be open from 5 - 9 pm on Friday\, from 10 am - 8 pm on Saturday and from 10 am - 5 pm on Sunday.  The cost to attend is $2.50 for adults\, $1.50 for senior citizens and $1 for children 6 - 12.  For more information please call 225-1216.
X-ALT-DESC;FMTTYPE=text/html:The show will be open from 5 - 9 pm on Friday\, from 10 am - 8 pm on Saturday and from 10 am - 5 pm on Sunday.  The cost to attend is $2.50 for adults\, $1.50 for senior citizens and $1 for children 6 - 12.  For more information please call 225-1216.
LOCATION:Superior Dome
UID:e.1704.46681
SEQUENCE:3
DTSTAMP:20260422T235641Z
URL:http://marquette.memberzone.com/events/details/up-builder-s-show-03-08-2002-46681
END:VEVENT

END:VCALENDAR
