BEGIN:VCALENDAR
VERSION:2.0
PRODID:-//ChamberMaster//Event Calendar 2.0//EN
METHOD:PUBLISH
X-PUBLISHED-TTL:P3D
REFRESH-INTERVAL:P3D
CALSCALE:GREGORIAN
BEGIN:VEVENT
DTSTART:20011121T180000Z
DTEND:20011121T180000Z
X-MICROSOFT-CDO-ALLDAYEVENT:FALSE
SUMMARY:UP Children's Museum Story Time
DESCRIPTION:Join Miss Mary for story time at the Upper Peninsula Children's Museum. Miss Mary will guide children through the world of fairy tales and legends at the museum. Special activities will accompany some of the story times. Today's story will be Sleeping Bear. All story time activities are free with entry. Call 226-3911 or visit www.upcmkids.org for more information.
X-ALT-DESC;FMTTYPE=text/html:Join Miss Mary for story time at the Upper Peninsula Children's Museum. Miss Mary will guide children through the world of fairy tales and legends at the museum. Special activities will accompany some of the story times. Today's story will be Sleeping Bear. All story time activities are free with entry. Call 226-3911 or visit www.upcmkids.org for more information.
LOCATION:UP Children's Museum
UID:e.1704.46773
SEQUENCE:3
DTSTAMP:20260423T063837Z
URL:http://marquette.memberzone.com/events/details/up-children-s-museum-story-time-11-21-2001-46773
END:VEVENT

END:VCALENDAR
