BEGIN:VCALENDAR
VERSION:2.0
PRODID:-//ChamberMaster//Event Calendar 2.0//EN
METHOD:PUBLISH
X-PUBLISHED-TTL:P3D
REFRESH-INTERVAL:P3D
CALSCALE:GREGORIAN
BEGIN:VEVENT
DTSTART:20010921T040000Z
DTEND:20010922T040000Z
X-MICROSOFT-CDO-ALLDAYEVENT:FALSE
SUMMARY:UP Disablities Conference
DESCRIPTION:Leave your "dis" behind and strengthen your abilities through Self Advocacy at this conference for people with disablities\, their families and those who support them.  For more information or to register contact Dianna Seymour at (906) 786-6441 ex. 519 or 1-800-820-2999.
X-ALT-DESC;FMTTYPE=text/html:Leave your "dis" behind and strengthen your abilities through Self Advocacy at this conference for people with disablities\, their families and those who support them.  For more information or to register contact Dianna Seymour at (906) 786-6441 ex. 519 or 1-800-820-2999.
LOCATION:Bay College\, Escanaba
UID:e.1704.45457
SEQUENCE:3
DTSTAMP:20260423T093222Z
URL:http://marquette.memberzone.com/events/details/up-disablities-conference-09-21-2001-45457
END:VEVENT

END:VCALENDAR
