BEGIN:VCALENDAR
VERSION:2.0
PRODID:-//ChamberMaster//Event Calendar 2.0//EN
METHOD:PUBLISH
X-PUBLISHED-TTL:P3D
REFRESH-INTERVAL:P3D
CALSCALE:GREGORIAN
BEGIN:VEVENT
DTSTART:20010719T180000Z
DTEND:20010719T180000Z
X-MICROSOFT-CDO-ALLDAYEVENT:FALSE
SUMMARY:UP Regional Blood Drive
DESCRIPTION:The blood that is donated serves 10 UP Hospitals! Stop in at the Prince of the Peace Church to donate. For more information or to schedule an appointment\, please contact Michelle Johnson at 249-9457.
X-ALT-DESC;FMTTYPE=text/html:The blood that is donated serves 10 UP Hospitals! Stop in at the Prince of the Peace Church to donate. For more information or to schedule an appointment\, please contact Michelle Johnson at 249-9457.
LOCATION:Harvey
UID:e.1704.45165
SEQUENCE:3
DTSTAMP:20260423T174020Z
URL:http://marquette.memberzone.com/events/details/up-regional-blood-drive-07-19-2001-45165
END:VEVENT

END:VCALENDAR
