BEGIN:VCALENDAR
VERSION:2.0
PRODID:-//ChamberMaster//Event Calendar 2.0//EN
METHOD:PUBLISH
X-PUBLISHED-TTL:P3D
REFRESH-INTERVAL:P3D
CALSCALE:GREGORIAN
BEGIN:VEVENT
DTSTART:20010724T180000Z
DTEND:20010724T180000Z
X-MICROSOFT-CDO-ALLDAYEVENT:FALSE
SUMMARY:UP Regional Blood Drive
DESCRIPTION:The blood that is donated serves 10 UP Hospitals! Stop in to donate at Bethel Lutheran Church in Ishpeming. For more information please call Helmer Mattson at 486-4872.
X-ALT-DESC;FMTTYPE=text/html:The blood that is donated serves 10 UP Hospitals! Stop in to donate at Bethel Lutheran Church in Ishpeming. For more information please call Helmer Mattson at 486-4872.
LOCATION:Ishpeming
UID:e.1704.45169
SEQUENCE:3
DTSTAMP:20260423T175801Z
URL:http://marquette.memberzone.com/events/details/up-regional-blood-drive-07-24-2001-45169
END:VEVENT

END:VCALENDAR
