BEGIN:VCALENDAR
VERSION:2.0
PRODID:-//ChamberMaster//Event Calendar 2.0//EN
METHOD:PUBLISH
X-PUBLISHED-TTL:P3D
REFRESH-INTERVAL:P3D
CALSCALE:GREGORIAN
BEGIN:VEVENT
DTSTART:20010731T140000Z
DTEND:20010731T140000Z
X-MICROSOFT-CDO-ALLDAYEVENT:FALSE
SUMMARY:UP Regional Blood Drive
DESCRIPTION:The blood that is donated serves 10 Up Hospitals. To donate stop in to the Peninsula Medical Center. For more information or to schedula an appointment\, please contact Janice Snell at 225-3905.
X-ALT-DESC;FMTTYPE=text/html:The blood that is donated serves 10 Up Hospitals. To donate stop in to the Peninsula Medical Center. For more information or to schedula an appointment\, please contact Janice Snell at 225-3905.
LOCATION:Marquette
UID:e.1704.45173
SEQUENCE:3
DTSTAMP:20260423T160404Z
URL:http://marquette.memberzone.com/events/details/up-regional-blood-drive-07-31-2001-45173
END:VEVENT

END:VCALENDAR
