BEGIN:VCALENDAR
VERSION:2.0
PRODID:-//ChamberMaster//Event Calendar 2.0//EN
METHOD:PUBLISH
X-PUBLISHED-TTL:P3D
REFRESH-INTERVAL:P3D
CALSCALE:GREGORIAN
BEGIN:VEVENT
DTSTART:20011018T160000Z
DTEND:20011018T160000Z
X-MICROSOFT-CDO-ALLDAYEVENT:FALSE
SUMMARY:UP Regional Blood Drive
DESCRIPTION:The blood donated serves 11 UP Hospitals.  Everything that is extra will be shipped to places in need\, such as New York City. For more information or to schedule an appointment please call 475-7500.
X-ALT-DESC;FMTTYPE=text/html:The blood donated serves 11 UP Hospitals.  Everything that is extra will be shipped to places in need\, such as New York City. For more information or to schedule an appointment please call 475-7500.
LOCATION:Eastwood Nursing Home - Negaunee
UID:e.1704.45917
SEQUENCE:3
DTSTAMP:20260423T093509Z
URL:http://marquette.memberzone.com/events/details/up-regional-blood-drive-10-18-2001-45917
END:VEVENT

END:VCALENDAR
