BEGIN:VCALENDAR
VERSION:2.0
PRODID:-//ChamberMaster//Event Calendar 2.0//EN
METHOD:PUBLISH
X-PUBLISHED-TTL:P3D
REFRESH-INTERVAL:P3D
CALSCALE:GREGORIAN
BEGIN:VEVENT
DTSTART:20050319T150000Z
DTEND:20050319T150000Z
X-MICROSOFT-CDO-ALLDAYEVENT:FALSE
SUMMARY:Up Stride Down Ski Event
DESCRIPTION:This low-key event is held on the Noquemanon Trail but has no aid stations\, no timing or age categories. It is strictly for fun and boasting rights with food and beverages offered at the trailhead.   For more information call Greg Nelson at 906-249-1486
X-ALT-DESC;FMTTYPE=text/html:This low-key event is held on the Noquemanon Trail but has no aid stations\, no timing or age categories. It is strictly for fun and boasting rights with food and beverages offered at the trailhead.   For more information call Greg Nelson at 906-249-1486\n
LOCATION:Noquemanon Trail
UID:e.1704.59953
SEQUENCE:3
DTSTAMP:20260419T205439Z
URL:http://marquette.memberzone.com/events/details/up-stride-down-ski-event-03-19-2005-59953
END:VEVENT

END:VCALENDAR
