BEGIN:VCALENDAR
VERSION:2.0
PRODID:-//ChamberMaster//Event Calendar 2.0//EN
METHOD:PUBLISH
X-PUBLISHED-TTL:P3D
REFRESH-INTERVAL:P3D
CALSCALE:GREGORIAN
BEGIN:VEVENT
DTSTART:20010814T040000Z
DTEND:20010819T040000Z
X-MICROSOFT-CDO-ALLDAYEVENT:FALSE
SUMMARY:Upper Michigan State Fair
DESCRIPTION:For more information please call 888-DELTA-MI.
X-ALT-DESC;FMTTYPE=text/html:For more information please call 888-DELTA-MI.
LOCATION:Escanaba State Fair Grounds
UID:e.1704.44977
SEQUENCE:3
DTSTAMP:20260423T160218Z
URL:http://marquette.memberzone.com/events/details/upper-michigan-state-fair-08-14-2001-44977
END:VEVENT

END:VCALENDAR
