BEGIN:VCALENDAR
VERSION:2.0
PRODID:-//ChamberMaster//Event Calendar 2.0//EN
METHOD:PUBLISH
X-PUBLISHED-TTL:P3D
REFRESH-INTERVAL:P3D
CALSCALE:GREGORIAN
BEGIN:VEVENT
DTSTART:20050423T140000Z
DTEND:20050423T140000Z
X-MICROSOFT-CDO-ALLDAYEVENT:FALSE
SUMMARY:Upper Peninsula Publishers and Authors Association
DESCRIPTION:Anyone interested in writing or self publishing are welcome.  A wealth of people with years of experience will be speaking\, such as Jan Flickinger-Bonarski\, Richard Smith\, Robert Hruska\, Moira Wilson\, and Becky Tavernini.  For more information call Moira at 906-484-2708.
X-ALT-DESC;FMTTYPE=text/html:Anyone interested in writing or self publishing are welcome.  A wealth of people with years of experience will be speaking\, such as Jan Flickinger-Bonarski\, Richard Smith\, Robert Hruska\, Moira Wilson\, and Becky Tavernini.  For more information call Moira at 906-484-2708.
LOCATION:Peter White Public Library
UID:e.1704.59993
SEQUENCE:3
DTSTAMP:20260419T115958Z
URL:http://marquette.memberzone.com/events/details/upper-peninsula-publishers-and-authors-association-04-23-2005-59993
END:VEVENT

END:VCALENDAR
