BEGIN:VCALENDAR
VERSION:2.0
PRODID:-//ChamberMaster//Event Calendar 2.0//EN
METHOD:PUBLISH
X-PUBLISHED-TTL:P3D
REFRESH-INTERVAL:P3D
CALSCALE:GREGORIAN
BEGIN:VEVENT
DTSTART:20040911T130000Z
DTEND:20040911T130000Z
X-MICROSOFT-CDO-ALLDAYEVENT:FALSE
SUMMARY:UPSDA Annual Symposium
DESCRIPTION:Vendors\, Silent Auction\, and more.  Win $1\,000 toward the Risdon Sled of your choice in UPSDA raffle.  For more information visit www.up200.org.
X-ALT-DESC;FMTTYPE=text/html:Vendors\, Silent Auction\, and more.  Win $1\,000 toward the Risdon Sled of your choice in UPSDA raffle.  For more information visit www.up200.org.  
LOCATION:Holiday Inn\, Marquette
UID:e.1704.58777
SEQUENCE:3
DTSTAMP:20260420T055011Z
URL:http://marquette.memberzone.com/events/details/upsda-annual-symposium-09-11-2004-58777
END:VEVENT

END:VCALENDAR
