BEGIN:VCALENDAR
VERSION:2.0
PRODID:-//ChamberMaster//Event Calendar 2.0//EN
METHOD:PUBLISH
X-PUBLISHED-TTL:P3D
REFRESH-INTERVAL:P3D
CALSCALE:GREGORIAN
BEGIN:VEVENT
DTSTART:20020927T040000Z
DTEND:20020929T040000Z
X-MICROSOFT-CDO-ALLDAYEVENT:FALSE
SUMMARY:US Nat'l Ski Hall of Fame Induction Weekend
DESCRIPTION:For more information on this event\, please call the U.S. National Ski Hall of Fame at 485-6323.
X-ALT-DESC;FMTTYPE=text/html:For more information on this event\, please call the U.S. National Ski Hall of Fame at 485-6323.
LOCATION:U.S. National Ski Hall of Fame in Ishpeming
UID:e.1704.48613
SEQUENCE:3
DTSTAMP:20260422T113923Z
URL:http://marquette.memberzone.com/events/details/us-nat-l-ski-hall-of-fame-induction-weekend-09-27-2002-48613
END:VEVENT

END:VCALENDAR
