BEGIN:VCALENDAR
VERSION:2.0
PRODID:-//ChamberMaster//Event Calendar 2.0//EN
METHOD:PUBLISH
X-PUBLISHED-TTL:P3D
REFRESH-INTERVAL:P3D
CALSCALE:GREGORIAN
BEGIN:VEVENT
DTSTART:20050212T150000Z
DTEND:20050212T150000Z
X-MICROSOFT-CDO-ALLDAYEVENT:FALSE
SUMMARY:US Nationals Luge
DESCRIPTION:For more information call Elmer Rinehart at 475-4424 or 362-4224 or email ERineh2008@aol.com.
X-ALT-DESC;FMTTYPE=text/html:For more information call Elmer Rinehart at 475-4424 or 362-4224 or email ERineh2008@aol.com.
LOCATION:Lucy Hill Luge
UID:e.1704.59185
SEQUENCE:3
DTSTAMP:20260419T171937Z
URL:http://marquette.memberzone.com/events/details/us-nationals-luge-02-12-2005-59185
END:VEVENT

END:VCALENDAR
