BEGIN:VCALENDAR
VERSION:2.0
PRODID:-//ChamberMaster//Event Calendar 2.0//EN
METHOD:PUBLISH
X-PUBLISHED-TTL:P3D
REFRESH-INTERVAL:P3D
CALSCALE:GREGORIAN
BEGIN:VEVENT
DTSTART:20040124T050000Z
DTEND:20040124T050000Z
X-MICROSOFT-CDO-ALLDAYEVENT:FALSE
SUMMARY:US Ski Hall Induction Pancake Breakfast
DESCRIPTION:This pancake breakfast is being hosted by the Kiwanis.  Come and meet the new Ski Hall inductees!  For more information call the U.S. National Ski Hall of Fame at 485-6323.
X-ALT-DESC;FMTTYPE=text/html:This pancake breakfast is being hosted by the Kiwanis.  Come and meet the new Ski Hall inductees!  For more information call the U.S. National Ski Hall of Fame at 485-6323.
LOCATION:C.L. Phelps Middle School\, Ishpeming
UID:e.1704.55817
SEQUENCE:3
DTSTAMP:20260421T003610Z
URL:http://marquette.memberzone.com/events/details/us-ski-hall-induction-pancake-breakfast-01-24-2004-55817
END:VEVENT

END:VCALENDAR
