BEGIN:VCALENDAR
VERSION:2.0
PRODID:-//ChamberMaster//Event Calendar 2.0//EN
METHOD:PUBLISH
X-PUBLISHED-TTL:P3D
REFRESH-INTERVAL:P3D
CALSCALE:GREGORIAN
BEGIN:VEVENT
DTSTART:20030201T050000Z
DTEND:20030202T050000Z
X-MICROSOFT-CDO-ALLDAYEVENT:FALSE
SUMMARY:USASA Snowboarding Competition
DESCRIPTION:For more information call Marquette Mountain Ski Area at 225-1155 or visit www.marquettemountain.com.
X-ALT-DESC;FMTTYPE=text/html:For more information call Marquette Mountain Ski Area at 225-1155 or visit www.marquettemountain.com.
LOCATION:Marquette Mountain Ski Area
UID:e.1704.51757
SEQUENCE:3
DTSTAMP:20260421T205946Z
URL:http://marquette.memberzone.com/events/details/usasa-snowboarding-competition-02-01-2003-51757
END:VEVENT

END:VCALENDAR
