BEGIN:VCALENDAR
VERSION:2.0
PRODID:-//ChamberMaster//Event Calendar 2.0//EN
METHOD:PUBLISH
X-PUBLISHED-TTL:P3D
REFRESH-INTERVAL:P3D
CALSCALE:GREGORIAN
BEGIN:VEVENT
DTSTART:20021228T050000Z
DTEND:20021230T050000Z
X-MICROSOFT-CDO-ALLDAYEVENT:FALSE
SUMMARY:USSA Region ll Race
DESCRIPTION:For more information call Marquette Mountain Ski Area at 225-1155 or visit www.marquettemountain.com.
X-ALT-DESC;FMTTYPE=text/html:For more information call Marquette Mountain Ski Area at 225-1155 or visit www.marquettemountain.com.
LOCATION:Marquette Mountain Ski Area
UID:e.1704.51745
SEQUENCE:3
DTSTAMP:20260422T010009Z
URL:http://marquette.memberzone.com/events/details/ussa-region-ll-race-12-28-2002-51745
END:VEVENT

END:VCALENDAR
