BEGIN:VCALENDAR
VERSION:2.0
PRODID:-//ChamberMaster//Event Calendar 2.0//EN
METHOD:PUBLISH
X-PUBLISHED-TTL:P3D
REFRESH-INTERVAL:P3D
CALSCALE:GREGORIAN
BEGIN:VEVENT
DTSTART:20030322T130000Z
DTEND:20030323T230000Z
X-MICROSOFT-CDO-ALLDAYEVENT:FALSE
SUMMARY:USSF Soccer Referee Clinic
DESCRIPTION:New Certification $50.00\, re-certification $30.00. Saturday hours are from 8am to 6pm\, Sunday hours are 9am to 1:30pm.  Registration forms availabale at superiordomesoccertournament.com or call Curt Umsted at 228-9197.
X-ALT-DESC;FMTTYPE=text/html:New Certification $50.00\, re-certification $30.00. Saturday hours are from 8am to 6pm\, Sunday hours are 9am to 1:30pm.  Registration forms availabale at superiordomesoccertournament.com or call Curt Umsted at 228-9197.
LOCATION:Jacobetti Skill Center\, Sugarloaf Ave.
UID:e.1704.52885
SEQUENCE:3
DTSTAMP:20260421T193141Z
URL:http://marquette.memberzone.com/events/details/ussf-soccer-referee-clinic-03-22-2003-52885
END:VEVENT

END:VCALENDAR
