BEGIN:VCALENDAR
VERSION:2.0
PRODID:-//ChamberMaster//Event Calendar 2.0//EN
METHOD:PUBLISH
X-PUBLISHED-TTL:P3D
REFRESH-INTERVAL:P3D
CALSCALE:GREGORIAN
BEGIN:VEVENT
DTSTART:20050210T210000Z
DTEND:20050210T210000Z
X-MICROSOFT-CDO-ALLDAYEVENT:FALSE
SUMMARY:Valentine Nature Craft
DESCRIPTION:Come and create a Valentinefor a special person.  $1 for materials.  For more information call the MooseWood Nature Center at 228-6250 or visit www.moosewood.org.
X-ALT-DESC;FMTTYPE=text/html:Come and create a Valentinefor a special person.  $1 for materials.  For more information call the MooseWood Nature Center at 228-6250 or visit www.moosewood.org.
LOCATION:MooseWood Nature Center
UID:e.1704.59725
SEQUENCE:3
DTSTAMP:20260419T190458Z
URL:http://marquette.memberzone.com/events/details/valentine-nature-craft-02-10-2005-59725
END:VEVENT

END:VCALENDAR
