BEGIN:VCALENDAR
VERSION:2.0
PRODID:-//ChamberMaster//Event Calendar 2.0//EN
METHOD:PUBLISH
X-PUBLISHED-TTL:P3D
REFRESH-INTERVAL:P3D
CALSCALE:GREGORIAN
BEGIN:VEVENT
DTSTART:20030207T000000Z
DTEND:20030207T000000Z
X-MICROSOFT-CDO-ALLDAYEVENT:FALSE
SUMMARY:Valentine's Day Auction
DESCRIPTION:Don Ryan will be hosting this Easter Seals auction which will benefit children and adults with disabilities.  Al Conrad will be the auctioneer.  Refreshments will be served.  For more information call Karen Taylor at 228-5816.
X-ALT-DESC;FMTTYPE=text/html:Don Ryan will be hosting this Easter Seals auction which will benefit children and adults with disabilities.  Al Conrad will be the auctioneer.  Refreshments will be served.  For more information call Karen Taylor at 228-5816.
LOCATION:Steer and Stein Steakhouse
UID:e.1704.52129
SEQUENCE:3
DTSTAMP:20260421T210018Z
URL:http://marquette.memberzone.com/events/details/valentine-s-day-auction-02-06-2003-52129
END:VEVENT

END:VCALENDAR
