BEGIN:VCALENDAR
VERSION:2.0
PRODID:-//ChamberMaster//Event Calendar 2.0//EN
METHOD:PUBLISH
X-PUBLISHED-TTL:P3D
REFRESH-INTERVAL:P3D
CALSCALE:GREGORIAN
BEGIN:VEVENT
DTSTART:20030813T013000Z
DTEND:20030813T013000Z
X-MICROSOFT-CDO-ALLDAYEVENT:FALSE
SUMMARY:View the Moon Hike
DESCRIPTION:Free to all. For more information call MooseWood at 228-6250 or visit www.moosewood.org.
X-ALT-DESC;FMTTYPE=text/html:Free to all. For more information call MooseWood at 228-6250 or visit www.moosewood.org.
LOCATION:MooseWood Nature Center
UID:e.1704.54617
SEQUENCE:3
DTSTAMP:20260421T123341Z
URL:http://marquette.memberzone.com/events/details/view-the-moon-hike-08-12-2003-54617
END:VEVENT

END:VCALENDAR
