BEGIN:VCALENDAR
VERSION:2.0
PRODID:-//ChamberMaster//Event Calendar 2.0//EN
METHOD:PUBLISH
X-PUBLISHED-TTL:P3D
REFRESH-INTERVAL:P3D
CALSCALE:GREGORIAN
BEGIN:VEVENT
DTSTART:20020309T050000Z
DTEND:20020310T050000Z
X-MICROSOFT-CDO-ALLDAYEVENT:FALSE
SUMMARY:Vintage Photo Event
DESCRIPTION:A "Vintage Photo Event" will once again take place at Younkers in the Westwood Mall in Marquette.  INVU Portraits will provide imaginative props and clothing to produce a memorable vintage black and white hand colored portrait of your child.  Informational brochures\, a portfolio and book to schedule your sitting are available at Younkers.  To schedule your sitting please call Younkers at 228-6011 and ask for the children's department.  For more information on INVU call them at 920-731-3823 or email at invugb@aol.com.
X-ALT-DESC;FMTTYPE=text/html:A "Vintage Photo Event" will once again take place at Younkers in the Westwood Mall in Marquette.  INVU Portraits will provide imaginative props and clothing to produce a memorable vintage black and white hand colored portrait of your child.  Informational brochures\, a portfolio and book to schedule your sitting are available at Younkers.  To schedule your sitting please call Younkers at 228-6011 and ask for the children's department.  For more information on INVU call them at 920-731-3823 or email at invugb@aol.com. 
LOCATION:Younkers
UID:e.1704.47841
SEQUENCE:3
DTSTAMP:20260423T014457Z
URL:http://marquette.memberzone.com/events/details/vintage-photo-event-03-09-2002-47841
END:VEVENT

END:VCALENDAR
