BEGIN:VCALENDAR
VERSION:2.0
PRODID:-//ChamberMaster//Event Calendar 2.0//EN
METHOD:PUBLISH
X-PUBLISHED-TTL:P3D
REFRESH-INTERVAL:P3D
CALSCALE:GREGORIAN
BEGIN:VEVENT
DTSTART:20040212T000000Z
DTEND:20040212T000000Z
X-MICROSOFT-CDO-ALLDAYEVENT:FALSE
SUMMARY:Virutal Birding: Internet Sites for Birders
DESCRIPTION:Members will demonstrate some of their favorite sites for local and national birding news\, research\, field trips\, identification tips and more.  This program is free and open to the public.  For more information call Ann Joyal at 226-6749.
X-ALT-DESC;FMTTYPE=text/html:Members will demonstrate some of their favorite sites for local and national birding news\, research\, field trips\, identification tips and more.  This program is free and open to the public.  For more information call Ann Joyal at 226-6749.
LOCATION:West Science Building\, Northern Michigan University
UID:e.1704.56813
SEQUENCE:3
DTSTAMP:20260420T210837Z
URL:http://marquette.memberzone.com/events/details/virutal-birding-internet-sites-for-birders-02-11-2004-56813
END:VEVENT

END:VCALENDAR
