BEGIN:VCALENDAR
VERSION:2.0
PRODID:-//ChamberMaster//Event Calendar 2.0//EN
METHOD:PUBLISH
X-PUBLISHED-TTL:P3D
REFRESH-INTERVAL:P3D
CALSCALE:GREGORIAN
BEGIN:VEVENT
DTSTART:20030626T173000Z
DTEND:20030626T173000Z
X-MICROSOFT-CDO-ALLDAYEVENT:FALSE
SUMMARY:Voelker Centennial Symposium
DESCRIPTION:For more information call the Downtown Marquette Authority at 228-6213.
X-ALT-DESC;FMTTYPE=text/html:For more information call the Downtown Marquette Authority at 228-6213.
LOCATION:Peter White Lounge\, Northern Michigan University
UID:e.1704.53977
SEQUENCE:3
DTSTAMP:20260421T140825Z
URL:http://marquette.memberzone.com/events/details/voelker-centennial-symposium-06-26-2003-53977
END:VEVENT

END:VCALENDAR
