BEGIN:VCALENDAR
VERSION:2.0
PRODID:-//ChamberMaster//Event Calendar 2.0//EN
METHOD:PUBLISH
X-PUBLISHED-TTL:P3D
REFRESH-INTERVAL:P3D
CALSCALE:GREGORIAN
BEGIN:VEVENT
DTSTART:20010609T160000Z
DTEND:20010610T160000Z
X-MICROSOFT-CDO-ALLDAYEVENT:FALSE
SUMMARY:Volunteers Needed!
DESCRIPTION:Safe Night 2001 is an overnight party offering safe\, fun\, recreational and educational activities. Activities will include a family carninval\, climbing wall\, oopen recreation\, a dance\, pizza party\, basketball\, swimming\, movies\,a nd much more. Volunteers 16 years and older are needed as chaperones. Fopr more information call 226-4370 or 387-2530.
X-ALT-DESC;FMTTYPE=text/html:Safe Night 2001 is an overnight party offering safe\, fun\, recreational and educational activities. Activities will include a family carninval\, climbing wall\, oopen recreation\, a dance\, pizza party\, basketball\, swimming\, movies\,a nd much more. Volunteers 16 years and older are needed as chaperones. Fopr more information call 226-4370 or 387-2530.
LOCATION:Safe Night 2001
UID:e.1704.44525
SEQUENCE:3
DTSTAMP:20260423T163950Z
URL:http://marquette.memberzone.com/events/details/volunteers-needed-06-09-2001-44525
END:VEVENT

END:VCALENDAR
