BEGIN:VCALENDAR
VERSION:2.0
PRODID:-//ChamberMaster//Event Calendar 2.0//EN
METHOD:PUBLISH
X-PUBLISHED-TTL:P3D
REFRESH-INTERVAL:P3D
CALSCALE:GREGORIAN
BEGIN:VEVENT
DTSTART:20020816T140000Z
DTEND:20020816T140000Z
X-MICROSOFT-CDO-ALLDAYEVENT:FALSE
SUMMARY:W.A.K.O. Hike
DESCRIPTION:MooseWood's Women and Kids Outdoors program takes a hike along the Little Garlic River.  It is free to attend.  Participants should meet at the MooseWood Nature Center and travel together to the river.  For more information\, please contact the MooseWood Nature Center at 228-6250 or visit www.mwnc.org.
X-ALT-DESC;FMTTYPE=text/html:MooseWood's Women and Kids Outdoors program takes a hike along the Little Garlic River.  It is free to attend.  Participants should meet at the MooseWood Nature Center and travel together to the river.  For more information\, please contact the MooseWood Nature Center at 228-6250 or visit www.mwnc.org.
LOCATION:Little Garlic River
UID:e.1704.49897
SEQUENCE:3
DTSTAMP:20260422T113302Z
URL:http://marquette.memberzone.com/events/details/w-a-k-o-hike-08-16-2002-49897
END:VEVENT

END:VCALENDAR
