BEGIN:VCALENDAR
VERSION:2.0
PRODID:-//ChamberMaster//Event Calendar 2.0//EN
METHOD:PUBLISH
X-PUBLISHED-TTL:P3D
REFRESH-INTERVAL:P3D
CALSCALE:GREGORIAN
BEGIN:VEVENT
DTSTART:20020607T140000Z
DTEND:20020607T140000Z
X-MICROSOFT-CDO-ALLDAYEVENT:FALSE
SUMMARY:W.A.K.O. Laughing Whitefish Falls Hike
DESCRIPTION:Join the staff of the MooseWood Nature Center for their first Women and Kids Outdoors (W.A.K.O.) hike.  The group will be looking for wildflowers and of course\, enjoying the beautiful waterfall.  Bring your smiles and bug spray!  Participants should meet at the MooseWood Nature Center.  It is free to participate\, but donations are welcome.  For more information\, please call the Center at 228-6250 or visit www.mwnc.org.
X-ALT-DESC;FMTTYPE=text/html:Join the staff of the MooseWood Nature Center for their first Women and Kids Outdoors (W.A.K.O.) hike.  The group will be looking for wildflowers and of course\, enjoying the beautiful waterfall.  Bring your smiles and bug spray!  Participants should meet at the MooseWood Nature Center.  It is free to participate\, but donations are welcome.  For more information\, please call the Center at 228-6250 or visit www.mwnc.org.
LOCATION:MooseWood Nature Center - Presque Isle Park
UID:e.1704.49117
SEQUENCE:3
DTSTAMP:20260422T175356Z
URL:http://marquette.memberzone.com/events/details/w-a-k-o-laughing-whitefish-falls-hike-06-07-2002-49117
END:VEVENT

END:VCALENDAR
