BEGIN:VCALENDAR
VERSION:2.0
PRODID:-//ChamberMaster//Event Calendar 2.0//EN
METHOD:PUBLISH
X-PUBLISHED-TTL:P3D
REFRESH-INTERVAL:P3D
CALSCALE:GREGORIAN
BEGIN:VEVENT
DTSTART:20020821T140000Z
DTEND:20020821T140000Z
X-MICROSOFT-CDO-ALLDAYEVENT:FALSE
SUMMARY:W.A.K.O. Old-fashioned style
DESCRIPTION:MooseWood's Women and Kids Outdoors program takes a trip back in time with some homemade ice cream and traditional games.  It is free to attend.  For more information\, please contact the MooseWood Nature Center at 228-6250 or visit www.mwnc.org.
X-ALT-DESC;FMTTYPE=text/html:MooseWood's Women and Kids Outdoors program takes a trip back in time with some homemade ice cream and traditional games.  It is free to attend.  For more information\, please contact the MooseWood Nature Center at 228-6250 or visit www.mwnc.org.
LOCATION:MooseWood Nature Center
UID:e.1704.49913
SEQUENCE:3
DTSTAMP:20260422T113328Z
URL:http://marquette.memberzone.com/events/details/w-a-k-o-old-fashioned-style-08-21-2002-49913
END:VEVENT

END:VCALENDAR
