BEGIN:VCALENDAR
VERSION:2.0
PRODID:-//ChamberMaster//Event Calendar 2.0//EN
METHOD:PUBLISH
X-PUBLISHED-TTL:P3D
REFRESH-INTERVAL:P3D
CALSCALE:GREGORIAN
BEGIN:VEVENT
DTSTART:20020627T140000Z
DTEND:20020627T140000Z
X-MICROSOFT-CDO-ALLDAYEVENT:FALSE
SUMMARY:W.A.K.O. Pond Study
DESCRIPTION:The MooseWood Nature Center Women and Kids Outdoors program will explore the world of life in a pond.  Participants should wear rubber boots and bring their imaginations to see what they can discover.  It is free to attend\, but donations are welcome.  For more information\, please call the Center at 228-6250 or visit www.mwnc.org.
X-ALT-DESC;FMTTYPE=text/html:The MooseWood Nature Center Women and Kids Outdoors program will explore the world of life in a pond.  Participants should wear rubber boots and bring their imaginations to see what they can discover.  It is free to attend\, but donations are welcome.  For more information\, please call the Center at 228-6250 or visit www.mwnc.org.
LOCATION:MooseWood Nature Center
UID:e.1704.49169
SEQUENCE:3
DTSTAMP:20260422T162234Z
URL:http://marquette.memberzone.com/events/details/w-a-k-o-pond-study-06-27-2002-49169
END:VEVENT

END:VCALENDAR
