BEGIN:VCALENDAR
VERSION:2.0
PRODID:-//ChamberMaster//Event Calendar 2.0//EN
METHOD:PUBLISH
X-PUBLISHED-TTL:P3D
REFRESH-INTERVAL:P3D
CALSCALE:GREGORIAN
BEGIN:VEVENT
DTSTART:20020508T140000Z
DTEND:20020508T140000Z
X-MICROSOFT-CDO-ALLDAYEVENT:FALSE
SUMMARY:W.A.K.O. Search for Spring
DESCRIPTION:Our Women and Kids Outdoors programs continue with a search for spring.  We'll look high and low for hints of new life.  Will we find anything green?  Any flowers poking their heads up or bird songs in the air?  Catepillars? Mosquitoes?  We'll look for spring on a nature hike with MooseWood Naturalist Heidi\, then follow it up with songs\, stories and a craft.  Dress for an outdoor hike.  For more information\, please call 228-6250 or visit www.mwnc.org
X-ALT-DESC;FMTTYPE=text/html:Our Women and Kids Outdoors programs continue with a search for spring.  We'll look high and low for hints of new life.  Will we find anything green?  Any flowers poking their heads up or bird songs in the air?  Catepillars? Mosquitoes?  We'll look for spring on a nature hike with MooseWood Naturalist Heidi\, then follow it up with songs\, stories and a craft.  Dress for an outdoor hike.  For more information\, please call 228-6250 or visit www.mwnc.org
LOCATION:MooseWood Nature Center
UID:e.1704.48705
SEQUENCE:3
DTSTAMP:20260422T192704Z
URL:http://marquette.memberzone.com/events/details/w-a-k-o-search-for-spring-05-08-2002-48705
END:VEVENT

END:VCALENDAR
