BEGIN:VCALENDAR
VERSION:2.0
PRODID:-//ChamberMaster//Event Calendar 2.0//EN
METHOD:PUBLISH
X-PUBLISHED-TTL:P3D
REFRESH-INTERVAL:P3D
CALSCALE:GREGORIAN
BEGIN:VEVENT
DTSTART:20020313T150000Z
DTEND:20020313T150000Z
X-MICROSOFT-CDO-ALLDAYEVENT:FALSE
SUMMARY:W.A.K.O. World of Wolves
DESCRIPTION:It's the centers first monthly "Women and Kids Outdoors" program for moms (dads too) and their kids.  This awarness program will explore wolf adaptations and hunting.  It is free to attend but donations are welcome.  For more information please call the MooseWood Nature Center at 228-6250 or visit www.moosewood.org
X-ALT-DESC;FMTTYPE=text/html:It's the centers first monthly "Women and Kids Outdoors" program for moms (dads too) and their kids.  This awarness program will explore wolf adaptations and hunting.  It is free to attend but donations are welcome.  For more information please call the MooseWood Nature Center at 228-6250 or visit www.moosewood.org 
LOCATION:MooseWood Nature Center
UID:e.1704.47805
SEQUENCE:3
DTSTAMP:20260423T000805Z
URL:http://marquette.memberzone.com/events/details/w-a-k-o-world-of-wolves-03-13-2002-47805
END:VEVENT

END:VCALENDAR
