BEGIN:VCALENDAR
VERSION:2.0
PRODID:-//ChamberMaster//Event Calendar 2.0//EN
METHOD:PUBLISH
X-PUBLISHED-TTL:P3D
REFRESH-INTERVAL:P3D
CALSCALE:GREGORIAN
BEGIN:VEVENT
DTSTART:20021210T020000Z
DTEND:20021210T020000Z
X-MICROSOFT-CDO-ALLDAYEVENT:FALSE
SUMMARY:Walk-In Legal Clinic
DESCRIPTION:Richard Graybill\, Attorney and Counselor\, will be holding informal office hours to assist with any questions.  No appointments necessary.  For more information call the Ishpeming Senior Center at 485-5527.
X-ALT-DESC;FMTTYPE=text/html:Richard Graybill\, Attorney and Counselor\, will be holding informal office hours to assist with any questions.  No appointments necessary.  For more information call the Ishpeming Senior Center at 485-5527.
LOCATION:Ishpeming Senior Center
UID:e.1704.51909
SEQUENCE:3
DTSTAMP:20260422T024018Z
URL:http://marquette.memberzone.com/events/details/walk-in-legal-clinic-12-09-2002-51909
END:VEVENT

END:VCALENDAR
