BEGIN:VCALENDAR
VERSION:2.0
PRODID:-//ChamberMaster//Event Calendar 2.0//EN
METHOD:PUBLISH
X-PUBLISHED-TTL:P3D
REFRESH-INTERVAL:P3D
CALSCALE:GREGORIAN
BEGIN:VEVENT
DTSTART:20040417T040000Z
DTEND:20040417T040000Z
X-MICROSOFT-CDO-ALLDAYEVENT:FALSE
SUMMARY:WalkAmerica
DESCRIPTION:For additional WalkAmerica information call the U.P. March of Dimes office at 1-800 906-DIME.
X-ALT-DESC;FMTTYPE=text/html:For additional WalkAmerica information call the U.P. March of Dimes office at 1-800 906-DIME.
LOCATION:Marquette
UID:e.1704.56809
SEQUENCE:3
DTSTAMP:20260420T193831Z
URL:http://marquette.memberzone.com/events/details/walkamerica-04-17-2004-56809
END:VEVENT

END:VCALENDAR
