BEGIN:VCALENDAR
VERSION:2.0
PRODID:-//ChamberMaster//Event Calendar 2.0//EN
METHOD:PUBLISH
X-PUBLISHED-TTL:P3D
REFRESH-INTERVAL:P3D
CALSCALE:GREGORIAN
BEGIN:VEVENT
DTSTART:20030701T160000Z
DTEND:20030701T160000Z
X-MICROSOFT-CDO-ALLDAYEVENT:FALSE
SUMMARY:War Memorial Celebration
DESCRIPTION:Celebrating 30 years of the volunteer force.  For more information call Joel Olson at 228-6003.
X-ALT-DESC;FMTTYPE=text/html:Celebrating 30 years of the volunteer force.  For more information call Joel Olson at 228-6003.
LOCATION:Northern Michigan War Memorial
UID:e.1704.54049
SEQUENCE:3
DTSTAMP:20260421T140835Z
URL:http://marquette.memberzone.com/events/details/war-memorial-celebration-07-01-2003-54049
END:VEVENT

END:VCALENDAR
