BEGIN:VCALENDAR
VERSION:2.0
PRODID:-//ChamberMaster//Event Calendar 2.0//EN
METHOD:PUBLISH
X-PUBLISHED-TTL:P3D
REFRESH-INTERVAL:P3D
CALSCALE:GREGORIAN
BEGIN:VEVENT
DTSTART:20040515T130000Z
DTEND:20040515T130000Z
X-MICROSOFT-CDO-ALLDAYEVENT:FALSE
SUMMARY:Waterfalls of Alger county
DESCRIPTION:Meet at MooseWood Nature Center and take a tour of the waterfalls of Alger County.   This is a free event\, but donations are welcome. For more information call the MooseWood Nature Center at 228-6250 or visit www.moosewood.org.
X-ALT-DESC;FMTTYPE=text/html:Meet at MooseWood Nature Center and take a tour of the waterfalls of Alger County.   This is a free event\, but donations are welcome. For more information call the MooseWood Nature Center at 228-6250 or visit www.moosewood.org.
LOCATION:Meet at MooseWood Nature Center
UID:e.1704.58045
SEQUENCE:3
DTSTAMP:20260420T161233Z
URL:http://marquette.memberzone.com/events/details/waterfalls-of-alger-county-05-15-2004-58045
END:VEVENT

END:VCALENDAR
