BEGIN:VCALENDAR
VERSION:2.0
PRODID:-//ChamberMaster//Event Calendar 2.0//EN
METHOD:PUBLISH
X-PUBLISHED-TTL:P3D
REFRESH-INTERVAL:P3D
CALSCALE:GREGORIAN
BEGIN:VEVENT
DTSTART:20030912T140000Z
DTEND:20030913T230000Z
X-MICROSOFT-CDO-ALLDAYEVENT:FALSE
SUMMARY:Wattsson & Wattsson & Big Brothers/ Big Sisters Celebration
DESCRIPTION:Blow out pricing will be in effect storewide for two days only.  Lots of giveaways\, prizes and fun and games for the whole family.  Proceeds to benefit Big Brothers/ Big Sisters.  For more information call Wattsson & Wattsson Jewelers at 228-5775
X-ALT-DESC;FMTTYPE=text/html:Blow out pricing will be in effect storewide for two days only.  Lots of giveaways\, prizes and fun and games for the whole family.  Proceeds to benefit Big Brothers/ Big Sisters.  For more information call Wattsson & Wattsson Jewelers at 228-5775
LOCATION:Wattsson & Wattsson Jewelers\, Marquette
UID:e.1704.55069
SEQUENCE:3
DTSTAMP:20260421T055102Z
URL:http://marquette.memberzone.com/events/details/wattsson-wattsson-big-brothers-big-sisters-celebration-09-12-2003-55069
END:VEVENT

END:VCALENDAR
