BEGIN:VCALENDAR
VERSION:2.0
PRODID:-//ChamberMaster//Event Calendar 2.0//EN
METHOD:PUBLISH
X-PUBLISHED-TTL:P3D
REFRESH-INTERVAL:P3D
CALSCALE:GREGORIAN
BEGIN:VEVENT
DTSTART:20031017T133000Z
DTEND:20031017T133000Z
X-MICROSOFT-CDO-ALLDAYEVENT:FALSE
SUMMARY:WELCUP Annual Fall Workshop
DESCRIPTION:Guest speakers include\; Nancy Krupiarz\, State Director of Rails-to-Trails Conservancy of Michigan\; Paula Ackerman\, Registered Dietitian and Certified Diabetes Educator\; and Erin Carter\, Wellness Coordinator for BHK Childhood Development Board in Houghton.  Participants will once again have the opportunity to "try out" a couple different exercise routines.  For more information call the Wellness Council of the Upper Peninsula at (906) 779-7234.
X-ALT-DESC;FMTTYPE=text/html:Guest speakers include\; Nancy Krupiarz\, State Director of Rails-to-Trails Conservancy of Michigan\; Paula Ackerman\, Registered Dietitian and Certified Diabetes Educator\; and Erin Carter\, Wellness Coordinator for BHK Childhood Development Board in Houghton.  Participants will once again have the opportunity to "try out" a couple different exercise routines.  For more information call the Wellness Council of the Upper Peninsula at (906) 779-7234.
LOCATION:Lakeview Arena
UID:e.1704.55589
SEQUENCE:3
DTSTAMP:20260421T035318Z
URL:http://marquette.memberzone.com/events/details/welcup-annual-fall-workshop-10-17-2003-55589
END:VEVENT

END:VCALENDAR
